BEGIN:VCALENDAR
VERSION:2.0
PRODID:-//AudioTheme 3.0.0
BEGIN:VEVENT
UID:urn:uuid:c0452988-3adf-4b34-ab4b-7b73919effc4
URL:https://brotherandsisterhood.de/shows/brother-sister-session/
DTSTART;TZID=GMT:20250429T183000
SUMMARY:Brother & Sister - Session
DESCRIPTION:Uli Gumpert – piano / Maike Hilbig – bass / Anna Kaluza – alto sax / Frank Gratkowski – alto sax\, flute / Gebhard Ullmann – bass clarinet\, tenor sax / Raymond Mac Donald - alto sax / Matthias Schubert - tenor sax / Nikolaus Neuser – trumpet / guest Didrik Ingvaldsen – trumpet / Martial Frenzel - drums
LOCATION:Kühlspot Social Club\, Lehderstraße 74\, Berlin\, \, DE\, 13086
END:VEVENT
END:VCALENDAR
