BEGIN:VCALENDAR
VERSION:2.0
PRODID:-//AudioTheme 3.0.0
BEGIN:VEVENT
UID:urn:uuid:257758dd-393e-4679-a5a3-385768e2954a
URL:https://brotherandsisterhood.de/shows/freejazzsaar/
DTSTART;TZID=GMT:20250410T170000
SUMMARY:FreeJazzSaar
LOCATION:FreeJazzSaar\, Festsaal\, Schlossplatz 1-15\, Saarbrücken\, \, 66119
END:VEVENT
END:VCALENDAR
