BEGIN:VCALENDAR
VERSION:2.0
PRODID:-//AudioTheme 3.0.0
BEGIN:VEVENT
UID:urn:uuid:9e46452d-c177-4edf-82c9-16ab7887b6cb
URL:https://brotherandsisterhood.de/shows/gig-498/
DTSTART;TZID=GMT:20241004T180000
SUMMARY:50 Jahre Jazzclub Bamberg
LOCATION:Jazzclub Bamberg e. V.\, Obere Sandstraße 18\, Bamberg\, \, 96049
END:VEVENT
END:VCALENDAR
